BEGIN:VCALENDAR
VERSION:2.0
PRODID:-//Alberta Rowing Association - ECPv6.15.14//NONSGML v1.0//EN
CALSCALE:GREGORIAN
METHOD:PUBLISH
X-WR-CALNAME:Alberta Rowing Association
X-ORIGINAL-URL:https://albertarowing.ca
X-WR-CALDESC:Events for Alberta Rowing Association
REFRESH-INTERVAL;VALUE=DURATION:PT1H
X-Robots-Tag:noindex
X-PUBLISHED-TTL:PT1H
BEGIN:VTIMEZONE
TZID:America/Edmonton
BEGIN:DAYLIGHT
TZOFFSETFROM:-0700
TZOFFSETTO:-0600
TZNAME:MDT
DTSTART:20240310T090000
END:DAYLIGHT
BEGIN:STANDARD
TZOFFSETFROM:-0600
TZOFFSETTO:-0700
TZNAME:MST
DTSTART:20241103T080000
END:STANDARD
BEGIN:DAYLIGHT
TZOFFSETFROM:-0700
TZOFFSETTO:-0600
TZNAME:MDT
DTSTART:20250309T090000
END:DAYLIGHT
BEGIN:STANDARD
TZOFFSETFROM:-0600
TZOFFSETTO:-0700
TZNAME:MST
DTSTART:20251102T080000
END:STANDARD
BEGIN:DAYLIGHT
TZOFFSETFROM:-0700
TZOFFSETTO:-0600
TZNAME:MDT
DTSTART:20260308T090000
END:DAYLIGHT
BEGIN:STANDARD
TZOFFSETFROM:-0600
TZOFFSETTO:-0700
TZNAME:MST
DTSTART:20261101T080000
END:STANDARD
END:VTIMEZONE
BEGIN:VEVENT
DTSTART;TZID=America/Edmonton:20250614T080000
DTEND;TZID=America/Edmonton:20250614T170000
DTSTAMP:20260420T024030
CREATED:20250418T181755Z
LAST-MODIFIED:20250418T181755Z
UID:4676-1749888000-1749920400@albertarowing.ca
SUMMARY:Western Canada Sprints and Beach Sprints
DESCRIPTION:Get ready to hit the water and turn up the speed! The Western Canada Sprints and Beach Sprints are back\, and we’re inviting clubs from across the region to join us for a full day of fast-paced racing\, good vibes\, and summer fun on beautiful Wascana Lake!\nWhether you’re racing for gold or simply enjoying the regatta atmosphere\, mark your calendars — this is an event you won’t want to miss!\nMore details to come — but for now\, save the date and enjoy the start of on-water training! 
URL:https://albertarowing.ca/event/western-canada-sprints-and-beach-sprints/
LOCATION:Wascana Lake\, Regina\, SK
END:VEVENT
END:VCALENDAR