BEGIN:VCALENDAR
VERSION:2.0
PRODID:-//Alberta Rowing Association - ECPv6.15.14//NONSGML v1.0//EN
CALSCALE:GREGORIAN
METHOD:PUBLISH
X-WR-CALNAME:Alberta Rowing Association
X-ORIGINAL-URL:https://albertarowing.ca
X-WR-CALDESC:Events for Alberta Rowing Association
REFRESH-INTERVAL;VALUE=DURATION:PT1H
X-Robots-Tag:noindex
X-PUBLISHED-TTL:PT1H
BEGIN:VTIMEZONE
TZID:America/Edmonton
BEGIN:DAYLIGHT
TZOFFSETFROM:-0700
TZOFFSETTO:-0600
TZNAME:MDT
DTSTART:20250309T090000
END:DAYLIGHT
BEGIN:STANDARD
TZOFFSETFROM:-0600
TZOFFSETTO:-0700
TZNAME:MST
DTSTART:20251102T080000
END:STANDARD
BEGIN:DAYLIGHT
TZOFFSETFROM:-0700
TZOFFSETTO:-0600
TZNAME:MDT
DTSTART:20260308T090000
END:DAYLIGHT
BEGIN:STANDARD
TZOFFSETFROM:-0600
TZOFFSETTO:-0700
TZNAME:MST
DTSTART:20261101T080000
END:STANDARD
BEGIN:DAYLIGHT
TZOFFSETFROM:-0700
TZOFFSETTO:-0600
TZNAME:MDT
DTSTART:20270314T090000
END:DAYLIGHT
BEGIN:STANDARD
TZOFFSETFROM:-0600
TZOFFSETTO:-0700
TZNAME:MST
DTSTART:20271107T080000
END:STANDARD
END:VTIMEZONE
BEGIN:VEVENT
DTSTART;VALUE=DATE:20260417
DTEND;VALUE=DATE:20260420
DTSTAMP:20260419T070048
CREATED:20260314T230550Z
LAST-MODIFIED:20260314T230550Z
UID:4757-1776384000-1776643199@albertarowing.ca
SUMMARY:Invermere Camp
DESCRIPTION:The ARA intends on facilitating its annual training in Invermere B.C from April 17-19\, 2026.  The camp is designed to assist athletes in preparing for the on-water season and will be open to all Proficient rowers* (Junior through Masters) across the province.
URL:https://albertarowing.ca/event/invermere-camp/
LOCATION:Invermere\, BC
END:VEVENT
END:VCALENDAR