BEGIN:VCALENDAR
VERSION:2.0
PRODID:-//Alberta Rowing Association - ECPv6.15.14//NONSGML v1.0//EN
CALSCALE:GREGORIAN
METHOD:PUBLISH
X-WR-CALNAME:Alberta Rowing Association
X-ORIGINAL-URL:https://albertarowing.ca
X-WR-CALDESC:Events for Alberta Rowing Association
REFRESH-INTERVAL;VALUE=DURATION:PT1H
X-Robots-Tag:noindex
X-PUBLISHED-TTL:PT1H
BEGIN:VTIMEZONE
TZID:America/Edmonton
BEGIN:DAYLIGHT
TZOFFSETFROM:-0700
TZOFFSETTO:-0600
TZNAME:MDT
DTSTART:20230312T090000
END:DAYLIGHT
BEGIN:STANDARD
TZOFFSETFROM:-0600
TZOFFSETTO:-0700
TZNAME:MST
DTSTART:20231105T080000
END:STANDARD
BEGIN:DAYLIGHT
TZOFFSETFROM:-0700
TZOFFSETTO:-0600
TZNAME:MDT
DTSTART:20240310T090000
END:DAYLIGHT
BEGIN:STANDARD
TZOFFSETFROM:-0600
TZOFFSETTO:-0700
TZNAME:MST
DTSTART:20241103T080000
END:STANDARD
BEGIN:DAYLIGHT
TZOFFSETFROM:-0700
TZOFFSETTO:-0600
TZNAME:MDT
DTSTART:20250309T090000
END:DAYLIGHT
BEGIN:STANDARD
TZOFFSETFROM:-0600
TZOFFSETTO:-0700
TZNAME:MST
DTSTART:20251102T080000
END:STANDARD
BEGIN:DAYLIGHT
TZOFFSETFROM:-0700
TZOFFSETTO:-0600
TZNAME:MDT
DTSTART:20260308T090000
END:DAYLIGHT
BEGIN:STANDARD
TZOFFSETFROM:-0600
TZOFFSETTO:-0700
TZNAME:MST
DTSTART:20261101T080000
END:STANDARD
END:VTIMEZONE
BEGIN:VEVENT
DTSTART;VALUE=DATE:20250124
DTEND;VALUE=DATE:20250126
DTSTAMP:20260419T232022
CREATED:20241218T011041Z
LAST-MODIFIED:20241218T011041Z
UID:4597-1737676800-1737849599@albertarowing.ca
SUMMARY:RCA Coaches Conference
DESCRIPTION:
URL:https://albertarowing.ca/event/rca-coaches-conference-2/
END:VEVENT
BEGIN:VEVENT
DTSTART;TZID=America/Edmonton:20250122T190000
DTEND;TZID=America/Edmonton:20250122T203000
DTSTAMP:20260419T232022
CREATED:20241218T011323Z
LAST-MODIFIED:20241218T011323Z
UID:4599-1737572400-1737577800@albertarowing.ca
SUMMARY:ARA Board Meeting
DESCRIPTION:Zoom mtg details and agenda will be emailed to the board
URL:https://albertarowing.ca/event/ara-board-meeting-2/
END:VEVENT
BEGIN:VEVENT
DTSTART;TZID=America/Edmonton:20241116T100000
DTEND;TZID=America/Edmonton:20241116T170000
DTSTAMP:20260419T232022
CREATED:20240128T194139Z
LAST-MODIFIED:20240128T194139Z
UID:4501-1731751200-1731776400@albertarowing.ca
SUMMARY:ARA AGM
DESCRIPTION:
URL:https://albertarowing.ca/event/ara-agm/
END:VEVENT
BEGIN:VEVENT
DTSTART;TZID=America/Edmonton:20240928T080000
DTEND;TZID=America/Edmonton:20240928T170000
DTSTAMP:20260419T232022
CREATED:20240128T193901Z
LAST-MODIFIED:20240128T193901Z
UID:4498-1727510400-1727542800@albertarowing.ca
SUMMARY:Dino Sprints
DESCRIPTION:
URL:https://albertarowing.ca/event/dino-sprints/
END:VEVENT
BEGIN:VEVENT
DTSTART;TZID=America/Edmonton:20240918T190000
DTEND;TZID=America/Edmonton:20240918T203000
DTSTAMP:20260419T232022
CREATED:20240909T155012Z
LAST-MODIFIED:20240909T155012Z
UID:4574-1726686000-1726691400@albertarowing.ca
SUMMARY:ARA Board Meeting
DESCRIPTION:
URL:https://albertarowing.ca/event/ara-board-meeting/
END:VEVENT
BEGIN:VEVENT
DTSTART;TZID=America/Edmonton:20240728T080000
DTEND;TZID=America/Edmonton:20240804T170000
DTSTAMP:20260419T232022
CREATED:20240128T193720Z
LAST-MODIFIED:20240128T193720Z
UID:4496-1722153600-1722790800@albertarowing.ca
SUMMARY:Henley
DESCRIPTION:
URL:https://albertarowing.ca/event/henley/
END:VEVENT
BEGIN:VEVENT
DTSTART;TZID=America/Edmonton:20240719T170000
DTEND;TZID=America/Edmonton:20240721T130000
DTSTAMP:20260419T232022
CREATED:20231203T010344Z
LAST-MODIFIED:20231203T010535Z
UID:4357-1721408400-1721566800@albertarowing.ca
SUMMARY:Vermilion Camp
DESCRIPTION:
URL:https://albertarowing.ca/event/lakeland-camp/
END:VEVENT
BEGIN:VEVENT
DTSTART;TZID=America/Edmonton:20240629T080000
DTEND;TZID=America/Edmonton:20240630T170000
DTSTAMP:20260419T232022
CREATED:20240128T193434Z
LAST-MODIFIED:20240128T193434Z
UID:4492-1719648000-1719766800@albertarowing.ca
SUMMARY:Alberta Open
DESCRIPTION:
URL:https://albertarowing.ca/event/alberta-open/
END:VEVENT
BEGIN:VEVENT
DTSTART;TZID=America/Edmonton:20240518T080000
DTEND;TZID=America/Edmonton:20240518T170000
DTSTAMP:20260419T232022
CREATED:20240128T193251Z
LAST-MODIFIED:20240128T193251Z
UID:4489-1716019200-1716051600@albertarowing.ca
SUMMARY:Alberta Boat Race & 50th anniversary
DESCRIPTION:
URL:https://albertarowing.ca/event/alberta-boat-race-50th-anniversary/
LOCATION:Edmonton RC
END:VEVENT
BEGIN:VEVENT
DTSTART;TZID=America/Edmonton:20240309T070000
DTEND;TZID=America/Edmonton:20240309T150000
DTSTAMP:20260419T232022
CREATED:20231210T154928Z
LAST-MODIFIED:20231210T154928Z
UID:4466-1709967600-1709996400@albertarowing.ca
SUMMARY:2024 Alberta Indoor Rowing Championships
DESCRIPTION:The Abbey Centre\, Blackfalds\, Field House 3 \nStay tuned for event details and start times.
URL:https://albertarowing.ca/event/2024-alberta-indoor-rowing-championships/
END:VEVENT
BEGIN:VEVENT
DTSTART;TZID=America/Edmonton:20240224T090000
DTEND;TZID=America/Edmonton:20240224T120000
DTSTAMP:20260419T232022
CREATED:20240128T193110Z
LAST-MODIFIED:20240128T193110Z
UID:4487-1708765200-1708776000@albertarowing.ca
SUMMARY:Coast to Coast Canadian indoor rowing day
DESCRIPTION:
URL:https://albertarowing.ca/event/coast-to-coast-canadian-indoor-rowing-day/
END:VEVENT
BEGIN:VEVENT
DTSTART;VALUE=DATE:20240126
DTEND;VALUE=DATE:20240129
DTSTAMP:20260419T232022
CREATED:20240124T013739Z
LAST-MODIFIED:20240124T013845Z
UID:4480-1706227200-1706486399@albertarowing.ca
SUMMARY:RCA Coaches Conference
DESCRIPTION:RCA Coaches Conference – January 26-28\, 2024 \nQuebec City\, Quebec
URL:https://albertarowing.ca/event/rca-coaches-conference/
END:VEVENT
END:VCALENDAR