BEGIN:VCALENDAR
VERSION:2.0
PRODID:-//Alberta Rowing Association - ECPv6.15.14//NONSGML v1.0//EN
CALSCALE:GREGORIAN
METHOD:PUBLISH
X-WR-CALNAME:Alberta Rowing Association
X-ORIGINAL-URL:https://albertarowing.ca
X-WR-CALDESC:Events for Alberta Rowing Association
REFRESH-INTERVAL;VALUE=DURATION:PT1H
X-Robots-Tag:noindex
X-PUBLISHED-TTL:PT1H
BEGIN:VTIMEZONE
TZID:America/Edmonton
BEGIN:DAYLIGHT
TZOFFSETFROM:-0700
TZOFFSETTO:-0600
TZNAME:MDT
DTSTART:20240310T090000
END:DAYLIGHT
BEGIN:STANDARD
TZOFFSETFROM:-0600
TZOFFSETTO:-0700
TZNAME:MST
DTSTART:20241103T080000
END:STANDARD
BEGIN:DAYLIGHT
TZOFFSETFROM:-0700
TZOFFSETTO:-0600
TZNAME:MDT
DTSTART:20250309T090000
END:DAYLIGHT
BEGIN:STANDARD
TZOFFSETFROM:-0600
TZOFFSETTO:-0700
TZNAME:MST
DTSTART:20251102T080000
END:STANDARD
BEGIN:DAYLIGHT
TZOFFSETFROM:-0700
TZOFFSETTO:-0600
TZNAME:MDT
DTSTART:20260308T090000
END:DAYLIGHT
BEGIN:STANDARD
TZOFFSETFROM:-0600
TZOFFSETTO:-0700
TZNAME:MST
DTSTART:20261101T080000
END:STANDARD
END:VTIMEZONE
BEGIN:VEVENT
DTSTART;VALUE=DATE:20250718
DTEND;VALUE=DATE:20250721
DTSTAMP:20260419T231244
CREATED:20241218T013049Z
LAST-MODIFIED:20250521T180938Z
UID:4615-1752796800-1753055999@albertarowing.ca
SUMMARY:Lakeland Camp
DESCRIPTION:Dates: July 18-20\nCoaches: Michael Simonson and Tim Flemin\nCost: $250 (includes Saturday supper)\n\nAll ages and abilities are welcome to register as long as they are comfortable in a single! Rowers will get grouped with other athletes of their skill level. Edmonton Rowing Club has generously offered to bring some singles and doubles/pairs with them\, so we will have more small boats available than last year!\n\nNote that we are not providing chaperones\, so anyone under the age of 18 must have an adult with them for the weekend.\n \nAthletes are responsible for their own accommodations and meals other than the included Saturday supper. Options are attached.\n\nSpace is limited to 40 athletes\, so register soon to save your spot! Registration form: https://docs.google.com/forms/d/1BadZ01_lC__wLmBn5aWcScXI68vh4NpToF2qmBL76LM/edit (or use the QR code on the poster)
URL:https://albertarowing.ca/event/lakeland-camp-2/
LOCATION:Lakeland RC
END:VEVENT
BEGIN:VEVENT
DTSTART;VALUE=DATE:20250718
DTEND;VALUE=DATE:20250721
DTSTAMP:20260419T231244
CREATED:20250218T021553Z
LAST-MODIFIED:20250218T021553Z
UID:4646-1752796800-1753055999@albertarowing.ca
SUMMARY:Cascadia Masters Championships
DESCRIPTION:Burnaby Lake Rowing Pavilion\, Burnaby\, BC
URL:https://albertarowing.ca/event/cascadia-masters-championships/
END:VEVENT
END:VCALENDAR