BEGIN:VCALENDAR
VERSION:2.0
PRODID:-//Alberta Rowing Association - ECPv6.15.14//NONSGML v1.0//EN
CALSCALE:GREGORIAN
METHOD:PUBLISH
X-WR-CALNAME:Alberta Rowing Association
X-ORIGINAL-URL:https://albertarowing.ca
X-WR-CALDESC:Events for Alberta Rowing Association
REFRESH-INTERVAL;VALUE=DURATION:PT1H
X-Robots-Tag:noindex
X-PUBLISHED-TTL:PT1H
BEGIN:VTIMEZONE
TZID:America/Edmonton
BEGIN:DAYLIGHT
TZOFFSETFROM:-0700
TZOFFSETTO:-0600
TZNAME:MDT
DTSTART:20250309T090000
END:DAYLIGHT
BEGIN:STANDARD
TZOFFSETFROM:-0600
TZOFFSETTO:-0700
TZNAME:MST
DTSTART:20251102T080000
END:STANDARD
BEGIN:DAYLIGHT
TZOFFSETFROM:-0700
TZOFFSETTO:-0600
TZNAME:MDT
DTSTART:20260308T090000
END:DAYLIGHT
BEGIN:STANDARD
TZOFFSETFROM:-0600
TZOFFSETTO:-0700
TZNAME:MST
DTSTART:20261101T080000
END:STANDARD
BEGIN:DAYLIGHT
TZOFFSETFROM:-0700
TZOFFSETTO:-0600
TZNAME:MDT
DTSTART:20270314T090000
END:DAYLIGHT
BEGIN:STANDARD
TZOFFSETFROM:-0600
TZOFFSETTO:-0700
TZNAME:MST
DTSTART:20271107T080000
END:STANDARD
END:VTIMEZONE
BEGIN:VEVENT
DTSTART;VALUE=DATE:20260829
DTEND;VALUE=DATE:20260831
DTSTAMP:20260419T141640
CREATED:20250218T022033Z
LAST-MODIFIED:20250218T022033Z
UID:4652-1787961600-1788134399@albertarowing.ca
SUMMARY:Cascadia Beach Sprints
DESCRIPTION:Jericho Sailing Centre\, Vancouver\, BC
URL:https://albertarowing.ca/event/cascadia-beach-sprints-2/
END:VEVENT
BEGIN:VEVENT
DTSTART;VALUE=DATE:20260830
DTEND;VALUE=DATE:20260831
DTSTAMP:20260419T141640
CREATED:20250218T022316Z
LAST-MODIFIED:20250218T022316Z
UID:4658-1788048000-1788134399@albertarowing.ca
SUMMARY:Cascadia Coastal Endurance (NEW!)
DESCRIPTION:Jericho Sailing Centre\, Vancouver\, BC
URL:https://albertarowing.ca/event/cascadia-coastal-endurance-new-2/
END:VEVENT
END:VCALENDAR